BEGIN:VCALENDAR
VERSION:2.0
CALSCALE:GREGORIAN
PRODID:-//Diputació de Barcelona//DibaCMS//EN
BEGIN:VEVENT
UID:1032
DTSTAMP:20260424T045636
DTSTART:20211003T090000
DTEND:20211003T140000
SUMMARY:III TROBADA DE VEHICLES CLÀSSICS A SANT MATEU DE BAGES
LOCATION:
METHOD:PUBLISH
X-WR-CALNAME:st.mateu@diba.cat
X-WR-TIMEZONE:Europe/Madrid
DESCRIPTION:
URI:https://www.santmateudebages.cat/actualitat/agenda/iii-trobada-de-vehicles-classics-a-sant-mateu-de-bages.html
CLASS:PUBLIC
END:VEVENT
END:VCALENDAR
