BEGIN:VCALENDAR
VERSION:2.0
CALSCALE:GREGORIAN
PRODID:-//Diputació de Barcelona//DibaCMS//EN
BEGIN:VEVENT
UID:1052
DTSTAMP:20260424T032337
DTSTART:20211218T000000
DTEND:20211219T000000
SUMMARY:ACTES LA MARATÓ TV3 - PER LA SALUT MENTAL  A VALLS DE TORROELLA -
LOCATION:
METHOD:PUBLISH
X-WR-CALNAME:st.mateu@diba.cat
X-WR-TIMEZONE:Europe/Madrid
DESCRIPTION:
URI:https://www.santmateudebages.cat/actualitat/agenda/actes-la-marato-tv3-per-la-salut-mental-a-valls-de-torroella-.html
CLASS:PUBLIC
END:VEVENT
END:VCALENDAR
