BEGIN:VCALENDAR
VERSION:2.0
CALSCALE:GREGORIAN
PRODID:-//Diputació de Barcelona//DibaCMS//EN
BEGIN:VEVENT
UID:1080
DTSTAMP:20260424T031522
DTSTART:20220430T000000
DTEND:20220501T000000
SUMMARY:50a Festa del Pubills a Valls de Torroella
LOCATION:
METHOD:PUBLISH
X-WR-CALNAME:st.mateu@diba.cat
X-WR-TIMEZONE:Europe/Madrid
DESCRIPTION:
URI:https://www.santmateudebages.cat/actualitat/agenda/50a-festa-del-pubills-a-valls-de-torroella.html
CLASS:PUBLIC
END:VEVENT
END:VCALENDAR
