BEGIN:VCALENDAR
VERSION:2.0
CALSCALE:GREGORIAN
PRODID:-//Diputació de Barcelona//DibaCMS//EN
BEGIN:VEVENT
UID:1086
DTSTAMP:20260424T045617
DTSTART:20220612T090000
DTEND:20220612T140000
SUMMARY:IV TROBADA DE VEHICLES CLÀSSICS A SANT MATEU DE BAGES
LOCATION:
METHOD:PUBLISH
X-WR-CALNAME:st.mateu@diba.cat
X-WR-TIMEZONE:Europe/Madrid
DESCRIPTION:
URI:https://www.santmateudebages.cat/actualitat/agenda/iv-trobada-de-vehicles-classics-a-sant-mateu-de-bages.html
CLASS:PUBLIC
END:VEVENT
END:VCALENDAR
