BEGIN:VCALENDAR
VERSION:2.0
CALSCALE:GREGORIAN
PRODID:-//Diputació de Barcelona//DibaCMS//EN
BEGIN:VEVENT
UID:1089
DTSTAMP:20260424T063135
DTSTART:20220529T160000
DTEND:20220529T170000
SUMMARY:DESCOBERTA DE LA PLACA COMMEMORATIVA EN HOMENATGE A EDUARD GIRBAL I JAUME
LOCATION:PLAÇA DAVANT DEL LOCAL DE SALO 
METHOD:PUBLISH
X-WR-CALNAME:st.mateu@diba.cat
X-WR-TIMEZONE:Europe/Madrid
DESCRIPTION:
URI:https://www.santmateudebages.cat/actualitat/agenda/descoberta-de-la-placa-commemorativa-en-homenatge-a-eduard-girbal-i-jaume.html
CLASS:PUBLIC
END:VEVENT
END:VCALENDAR
