BEGIN:VCALENDAR
VERSION:2.0
CALSCALE:GREGORIAN
PRODID:-//Diputació de Barcelona//DibaCMS//EN
BEGIN:VEVENT
UID:1092
DTSTAMP:20260424T063613
DTSTART:20220612T120000
DTEND:20220612T180000
SUMMARY:CLOENDA TEMPORADA 2021/2022 DEL CF VALLS DE TORROELLA
LOCATION:
METHOD:PUBLISH
X-WR-CALNAME:st.mateu@diba.cat
X-WR-TIMEZONE:Europe/Madrid
DESCRIPTION:
URI:https://www.santmateudebages.cat/actualitat/agenda/cloenda-temporada-20212022-del-cf-valls-de-torroella.html
CLASS:PUBLIC
END:VEVENT
END:VCALENDAR
