BEGIN:VCALENDAR
VERSION:2.0
CALSCALE:GREGORIAN
PRODID:-//Diputació de Barcelona//DibaCMS//EN
BEGIN:VEVENT
UID:1134
DTSTAMP:20260424T013751
DTSTART:20221105T180000
DTEND:20221105T193000
SUMMARY:DONES QUE TRANSFORMEN - CINEFÒRUM - NUXÀREK
LOCATION:
METHOD:PUBLISH
X-WR-CALNAME:st.mateu@diba.cat
X-WR-TIMEZONE:Europe/Madrid
DESCRIPTION:La sessió serà una projecció i un col.loqui d'un conjunt de 3 curtmetratges al voltant de les lluites per la igualtat de les dones a la Mediterrània.

URI:https://www.santmateudebages.cat/actualitat/agenda/dones-que-transformen-cineforum-nuxarek.html
CLASS:PUBLIC
END:VEVENT
END:VCALENDAR
