BEGIN:VCALENDAR
VERSION:2.0
CALSCALE:GREGORIAN
PRODID:-//Diputació de Barcelona//DibaCMS//EN
BEGIN:VEVENT
UID:1141
DTSTAMP:20260424T013902
DTSTART:20221211T090000
DTEND:20221211T150000
SUMMARY:PESSEBRE A COANER
LOCATION:
METHOD:PUBLISH
X-WR-CALNAME:st.mateu@diba.cat
X-WR-TIMEZONE:Europe/Madrid
DESCRIPTION:
URI:https://www.santmateudebages.cat/actualitat/agenda/1141-pessebre-a-coaner.html
CLASS:PUBLIC
END:VEVENT
END:VCALENDAR
