BEGIN:VCALENDAR
VERSION:2.0
CALSCALE:GREGORIAN
PRODID:-//Diputació de Barcelona//DibaCMS//EN
BEGIN:VEVENT
UID:1146
DTSTAMP:20260424T043902
DTSTART:20221225T183000
DTEND:20221225T233000
SUMMARY:ELS PASTORETS D'EN BATO I BORREGO A VALLS DE TORROELLA
LOCATION:Valls de Torroella Sant Mateu de Bages
METHOD:PUBLISH
X-WR-CALNAME:st.mateu@diba.cat
X-WR-TIMEZONE:Europe/Madrid
DESCRIPTION:
URI:https://www.santmateudebages.cat/actualitat/agenda/els-pastorets-den-bato-i-borrego-a-valls-de-torroella.html
CLASS:PUBLIC
END:VEVENT
END:VCALENDAR
