BEGIN:VCALENDAR
VERSION:2.0
CALSCALE:GREGORIAN
PRODID:-//Diputació de Barcelona//DibaCMS//EN
BEGIN:VEVENT
UID:1182
DTSTAMP:20260424T043842
DTSTART:20230819T000000
DTEND:20230820T000000
SUMMARY:Festa Major Salo
LOCATION:
METHOD:PUBLISH
X-WR-CALNAME:st.mateu@diba.cat
X-WR-TIMEZONE:Europe/Madrid
DESCRIPTION:
URI:https://www.santmateudebages.cat/actualitat/agenda/1182-festa-major-salo.html
CLASS:PUBLIC
END:VEVENT
END:VCALENDAR
