BEGIN:VCALENDAR
VERSION:2.0
CALSCALE:GREGORIAN
PRODID:-//Diputació de Barcelona//DibaCMS//EN
BEGIN:VEVENT
UID:1215
DTSTAMP:20260423T223203
DTSTART:20231124T180000
DTEND:20231124T200000
SUMMARY:La perruqueria dels versos de Gisela Figueras
LOCATION:
METHOD:PUBLISH
X-WR-CALNAME:st.mateu@diba.cat
X-WR-TIMEZONE:Europe/Madrid
DESCRIPTION:El Bibliobús ens porta un espectacle delirant, ple d'humor, protagonitzat per una perruquera que té el remei per no quedar-se calb, i que recupera aquelles poesies d'abans... dites com abans.

URI:https://www.santmateudebages.cat/actualitat/agenda/la-perruqueria-dels-versos-de-gisela-figueras.html
CLASS:PUBLIC
END:VEVENT
END:VCALENDAR
