BEGIN:VCALENDAR
VERSION:2.0
CALSCALE:GREGORIAN
PRODID:-//Diputació de Barcelona//DibaCMS//EN
BEGIN:VEVENT
UID:1217
DTSTAMP:20260420T084120
DTSTART:20231203T090000
DTEND:20231203T140000
SUMMARY:Caminada pessebre a Coaner
LOCATION:
METHOD:PUBLISH
X-WR-CALNAME:st.mateu@diba.cat
X-WR-TIMEZONE:Europe/Madrid
DESCRIPTION:
URI:https://www.santmateudebages.cat/actualitat/agenda/caminada-pessebre-a-coaner.html
CLASS:PUBLIC
END:VEVENT
END:VCALENDAR
