BEGIN:VCALENDAR
VERSION:2.0
CALSCALE:GREGORIAN
PRODID:-//Diputació de Barcelona//DibaCMS//EN
BEGIN:VEVENT
UID:1238
DTSTAMP:20260424T045935
DTSTART:20240313T160000
DTEND:20240313T180000
SUMMARY:Taller d'art i benestar emocional - Iniciació al macrame
LOCATION:Local social Sant Mateu de Bages 
METHOD:PUBLISH
X-WR-CALNAME:st.mateu@diba.cat
X-WR-TIMEZONE:Europe/Madrid
DESCRIPTION:
URI:https://www.santmateudebages.cat/actualitat/agenda/taller-dart-i-benestar-emocional-iniciacio-al-macrame.html
CLASS:PUBLIC
END:VEVENT
END:VCALENDAR
