BEGIN:VCALENDAR
VERSION:2.0
CALSCALE:GREGORIAN
PRODID:-//Diputació de Barcelona//DibaCMS//EN
BEGIN:VEVENT
UID:1258
DTSTAMP:20260424T000634
DTSTART:20240515T170000
DTEND:20240515T190000
SUMMARY:Juguem en família
LOCATION:C/ Església s/n 08269 Valls de Torroella
METHOD:PUBLISH
X-WR-CALNAME:st.mateu@diba.cat
X-WR-TIMEZONE:Europe/Madrid
DESCRIPTION:
URI:https://www.santmateudebages.cat/actualitat/agenda/juguem-en-familia.html
CLASS:PUBLIC
END:VEVENT
END:VCALENDAR
