BEGIN:VCALENDAR
VERSION:2.0
CALSCALE:GREGORIAN
PRODID:-//Diputació de Barcelona//DibaCMS//EN
BEGIN:VEVENT
UID:1259
DTSTAMP:20260423T223712
DTSTART:20240608T190000
DTEND:20240608T210000
SUMMARY:Projecció de la pel.lícuala A TRAVÉS DE LES TOMBES BUFA EL VENT
LOCATION:
METHOD:PUBLISH
X-WR-CALNAME:st.mateu@diba.cat
X-WR-TIMEZONE:Europe/Madrid
DESCRIPTION:Pel.lícula documental sobre el fets del Borrell a Sant Mateu de Bages.

URI:https://www.santmateudebages.cat/actualitat/agenda/projeccio-de-la-pellicuala-a-traves-de-les-tombes-bufa-el-vent.html
CLASS:PUBLIC
END:VEVENT
END:VCALENDAR
