BEGIN:VCALENDAR
VERSION:2.0
CALSCALE:GREGORIAN
PRODID:-//Diputació de Barcelona//DibaCMS//EN
BEGIN:VEVENT
UID:1261
DTSTAMP:20260424T030010
DTSTART:20240706T193000
DTEND:20240706T235900
SUMMARY:Maquinant les Fabricantes
LOCATION:
METHOD:PUBLISH
X-WR-CALNAME:st.mateu@diba.cat
X-WR-TIMEZONE:Europe/Madrid
DESCRIPTION:
URI:https://www.santmateudebages.cat/actualitat/agenda/maquinant-les-fabricantes.html
CLASS:PUBLIC
END:VEVENT
END:VCALENDAR
