BEGIN:VCALENDAR
VERSION:2.0
CALSCALE:GREGORIAN
PRODID:-//Diputació de Barcelona//DibaCMS//EN
BEGIN:VEVENT
UID:1306
DTSTAMP:20260423T205145
DTSTART:20241215T110000
DTEND:20241215T180000
SUMMARY:Actes Marató TV3 a Sant Mateu de Bages
LOCATION:
METHOD:PUBLISH
X-WR-CALNAME:st.mateu@diba.cat
X-WR-TIMEZONE:Europe/Madrid
DESCRIPTION:
URI:https://www.santmateudebages.cat/actualitat/agenda/1306-actes-marato-tv3-a-sant-mateu-de-bages.html
CLASS:PUBLIC
END:VEVENT
END:VCALENDAR
