BEGIN:VCALENDAR
VERSION:2.0
CALSCALE:GREGORIAN
PRODID:-//Diputació de Barcelona//DibaCMS//EN
BEGIN:VEVENT
UID:1309
DTSTAMP:20260423T234625
DTSTART:20241222T113000
DTEND:20241222T130000
SUMMARY:EL CANT DE LA SIBIL.LA A COANER 
LOCATION:
METHOD:PUBLISH
X-WR-CALNAME:st.mateu@diba.cat
X-WR-TIMEZONE:Europe/Madrid
DESCRIPTION:AMB LAURA DE CASTELLET (SIBIL.LA I HISTORIADORA)

COLOFÓ AMB FÒRUM I PRESENTACIÓ DEL LLIBRE SOBRE AQUEST CANT MEDIEVA

 

URI:https://www.santmateudebages.cat/actualitat/agenda/el-cant-de-la-sibilla-a-coaner-.html
CLASS:PUBLIC
END:VEVENT
END:VCALENDAR
