BEGIN:VCALENDAR
VERSION:2.0
CALSCALE:GREGORIAN
PRODID:-//Diputació de Barcelona//DibaCMS//EN
BEGIN:VEVENT
UID:1321
DTSTAMP:20260424T000437
DTSTART:20250329T190000
DTEND:20250329T235900
SUMMARY:Estrena del documental PEL VERD DESPRÉS DEL NEGRE 1994-2024
LOCATION:LOCAL SOCIAL - SANT MATEU DE BAGES 
METHOD:PUBLISH
X-WR-CALNAME:st.mateu@diba.cat
X-WR-TIMEZONE:Europe/Madrid
DESCRIPTION:30 anys dels incendis de Sant Mateu de Bages, amb la presència del director, Marc Planagumà

URI:https://www.santmateudebages.cat/actualitat/agenda/estrena-del-documental-pel-verd-despres-del-negre-1994-2024.html
CLASS:PUBLIC
END:VEVENT
END:VCALENDAR
