BEGIN:VCALENDAR
VERSION:2.0
CALSCALE:GREGORIAN
PRODID:-//Diputació de Barcelona//DibaCMS//EN
BEGIN:VEVENT
UID:1322
DTSTAMP:20260424T034939
DTSTART:20250330T090000
DTEND:20250330T140000
SUMMARY:RUTA GUIADA PELS CONFINS DEL TERME DE COANER
LOCATION:
METHOD:PUBLISH
X-WR-CALNAME:st.mateu@diba.cat
X-WR-TIMEZONE:Europe/Madrid
DESCRIPTION:
URI:https://www.santmateudebages.cat/actualitat/agenda/ruta-guiada-pels-confins-del-terme-de-coaner.html
CLASS:PUBLIC
END:VEVENT
END:VCALENDAR
