BEGIN:VCALENDAR
VERSION:2.0
CALSCALE:GREGORIAN
PRODID:-//Diputació de Barcelona//DibaCMS//EN
BEGIN:VEVENT
UID:1323
DTSTAMP:20260424T013925
DTSTART:20250328T190000
DTEND:20250328T210000
SUMMARY:Presentació del Llibre: ALBOR - La Veu dels nens i nenes de Súria en el temps de la Guerra
LOCATION:
METHOD:PUBLISH
X-WR-CALNAME:st.mateu@diba.cat
X-WR-TIMEZONE:Europe/Madrid
DESCRIPTION:La mestra i activista cultural surienca Magda Esquius presenta a la sala la Rectoria de Valls de Torroella un llibre sobre una revista escolar dels anys de la Guerra Civil. 

L’acte comptarà amb un diàleg entre l’autora, Magda Esquius Ros, i de l'autor del pròleg, Josep Peramiquel Cols, on es debatran els temes clau de l’obra i la seva rellevància històrica i pedagògica.

Lectures a càrrec del Grup de teatre de Valls de Torroella

Albor. La veu dels nens i nenes de Súria en el temps de la guerra, editat per l'Ajuntament de Súria. És una obra que recupera la memòria dels infants del poble que van patir la Guerra Civil i reivindica la tasca del professorat que va impulsar la renovació pedagògica dels anys trenta. 

URI:https://www.santmateudebages.cat/actualitat/agenda/presentacio-del-llibre-albor-la-veu-dels-nens-i-nenes-de-suria-en-el-temps-de-la-guerra.html
CLASS:PUBLIC
END:VEVENT
END:VCALENDAR
