BEGIN:VCALENDAR
VERSION:2.0
CALSCALE:GREGORIAN
PRODID:-//Diputació de Barcelona//DibaCMS//EN
BEGIN:VEVENT
UID:1325
DTSTAMP:20260424T000602
DTSTART:20250424T103000
DTEND:20250424T120000
SUMMARY:Hora del Conte: Anades i vigudes de l'Amades
LOCATION:Teatre de Valls de Torroella 
METHOD:PUBLISH
X-WR-CALNAME:st.mateu@diba.cat
X-WR-TIMEZONE:Europe/Madrid
DESCRIPTION:Les anades i vingudes d'en Joan amades per tots els Països Catalans investigant el folklore, us les presentem en un recital de contes, cançons populars, canterelles, dites i jocs de falda.

A càrrec de Rah-mon Roma

URI:https://www.santmateudebages.cat/actualitat/agenda/hora-del-conte-anades-i-vigudes-de-lamades.html
CLASS:PUBLIC
END:VEVENT
END:VCALENDAR
