BEGIN:VCALENDAR
VERSION:2.0
CALSCALE:GREGORIAN
PRODID:-//Diputació de Barcelona//DibaCMS//EN
BEGIN:VEVENT
UID:1326
DTSTAMP:20260423T223601
DTSTART:20250511T180000
DTEND:20250511T230000
SUMMARY:8ª EDICIÓ ESPURNES BARROQUES: CONCERT I TAST AMB  PERLES DEL SEICENTO A L'ESGLESIA DE SANT MIQUEL DE CASTELLTALLAT
LOCATION:08263 Sant Mateu de Bages
METHOD:PUBLISH
X-WR-CALNAME:st.mateu@diba.cat
X-WR-TIMEZONE:Europe/Madrid
DESCRIPTION:-RAQUEL ANDUEZA & LA GALANÍA

TAST: CASA CACAO, EIXARCOLANT I CASA DALMASES

Atès el poc  aforament dels espais, es recomana treure entrada anticipada: http://www.espurnesbarroques.cat

URI:https://www.santmateudebages.cat/actualitat/agenda/8a-edicio-espurnes-barroques-concert-i-tast-amb-perles-del-seicento-a-lesglesia-de-sant-miquel-de-castelltallat.html
CLASS:PUBLIC
END:VEVENT
END:VCALENDAR
