BEGIN:VCALENDAR
VERSION:2.0
CALSCALE:GREGORIAN
PRODID:-//Diputació de Barcelona//DibaCMS//EN
BEGIN:VEVENT
UID:1327
DTSTAMP:20260423T223632
DTSTART:20250608T113000
DTEND:20250608T140000
SUMMARY:8ª EDICIÓ ESPURNES BARROQUES: CONCERT I TAST AMB  BACH: PRIMAVERA 1725 A COANER
LOCATION:Santuari de la Mare de Déu Coaner 
METHOD:PUBLISH
X-WR-CALNAME:st.mateu@diba.cat
X-WR-TIMEZONE:Europe/Madrid
DESCRIPTION:BACHCELONA CONSORT

SOLISTES SALVAT BECA BACH

TAST: TORRE LLUVIÀ, EIXARCOLANT I EL CELLER DE MURA

Atès el poc  aforament dels espais, es recomana treure entrada anticipada: http://www.espurnesbarroques.cat

URI:https://www.santmateudebages.cat/actualitat/agenda/8a-edicio-espurnes-barroques-concert-i-tast-amb-bach-primavera-1725-a-coaner.html
CLASS:PUBLIC
END:VEVENT
END:VCALENDAR
