BEGIN:VCALENDAR
VERSION:2.0
CALSCALE:GREGORIAN
PRODID:-//Diputació de Barcelona//DibaCMS//EN
BEGIN:VEVENT
UID:1330
DTSTAMP:20260423T210750
DTSTART:20250522T180000
DTEND:20250522T200000
SUMMARY:Taller cuida't per a un envelliment saludable a Valls de Torroella
LOCATION:Sala la Rectoria de Valls de Torroella 
METHOD:PUBLISH
X-WR-CALNAME:st.mateu@diba.cat
X-WR-TIMEZONE:Europe/Madrid
DESCRIPTION:
Taller adreçat a persones grans



Aprendreu consells pràctics per planificar i preparar àpats saludables.

Rebreu recomanacions per tenir una vida socialment activa.

Us facilitaran propostes per incorporar l'activitat física a la vida quotidiana.

Aprendreu a identificar els riscs més comuns per prevenir caigudes.


URI:https://www.santmateudebages.cat/actualitat/agenda/taller-cuidat-per-a-un-envelliment-saludable-a-valls-de-torroella.html
CLASS:PUBLIC
END:VEVENT
END:VCALENDAR
