BEGIN:VCALENDAR
VERSION:2.0
CALSCALE:GREGORIAN
PRODID:-//Diputació de Barcelona//DibaCMS//EN
BEGIN:VEVENT
UID:1337
DTSTAMP:20260423T221834
DTSTART:20250514T164500
DTEND:20250514T184500
SUMMARY:Juguem en Família
LOCATION:
METHOD:PUBLISH
X-WR-CALNAME:st.mateu@diba.cat
X-WR-TIMEZONE:Europe/Madrid
DESCRIPTION:
URI:https://www.santmateudebages.cat/actualitat/agenda/1337-juguem-en-familia.html
CLASS:PUBLIC
END:VEVENT
END:VCALENDAR
