BEGIN:VCALENDAR
VERSION:2.0
CALSCALE:GREGORIAN
PRODID:-//Diputació de Barcelona//DibaCMS//EN
BEGIN:VEVENT
UID:1339
DTSTAMP:20260423T205917
DTSTART:20250608T090000
DTEND:20250608T140000
SUMMARY:Trobada de clàssics a Sant Mateu de Bages 
LOCATION:
METHOD:PUBLISH
X-WR-CALNAME:st.mateu@diba.cat
X-WR-TIMEZONE:Europe/Madrid
DESCRIPTION:
URI:https://www.santmateudebages.cat/actualitat/agenda/trobada-de-classics-a-sant-mateu-de-bages-.html
CLASS:PUBLIC
END:VEVENT
END:VCALENDAR
