BEGIN:VCALENDAR
VERSION:2.0
CALSCALE:GREGORIAN
PRODID:-//Diputació de Barcelona//DibaCMS//EN
BEGIN:VEVENT
UID:1340
DTSTAMP:20260424T043546
DTSTART:20250524T180000
DTEND:20250524T220000
SUMMARY:Concert espectacle GOIG
LOCATION:
METHOD:PUBLISH
X-WR-CALNAME:st.mateu@diba.cat
X-WR-TIMEZONE:Europe/Madrid
DESCRIPTION:
URI:https://www.santmateudebages.cat/actualitat/agenda/concert-espectacle-goig.html
CLASS:PUBLIC
END:VEVENT
END:VCALENDAR
