BEGIN:VCALENDAR
VERSION:2.0
CALSCALE:GREGORIAN
PRODID:-//Diputació de Barcelona//DibaCMS//EN
BEGIN:VEVENT
UID:1345
DTSTAMP:20260424T002549
DTSTART:20250614T093000
DTEND:20250614T140000
SUMMARY:JORNADES D'HISTÒRIA I DESCOBERTA- MIRADES DE PRIMAVERA A COANER
LOCATION:
METHOD:PUBLISH
X-WR-CALNAME:st.mateu@diba.cat
X-WR-TIMEZONE:Europe/Madrid
DESCRIPTION:
URI:https://www.santmateudebages.cat/actualitat/agenda/jornades-dhistoria-i-descoberta-mirades-de-primavera-a-coaner.html
CLASS:PUBLIC
END:VEVENT
END:VCALENDAR
