BEGIN:VCALENDAR
VERSION:2.0
CALSCALE:GREGORIAN
PRODID:-//Diputació de Barcelona//DibaCMS//EN
BEGIN:VEVENT
UID:1347
DTSTAMP:20260423T234506
DTSTART:20250614T180000
DTEND:20250614T235900
SUMMARY:LES FABRICANTES - Ens posem en marxa!
LOCATION:
METHOD:PUBLISH
X-WR-CALNAME:st.mateu@diba.cat
X-WR-TIMEZONE:Europe/Madrid
DESCRIPTION:
URI:https://www.santmateudebages.cat/actualitat/agenda/les-fabricantes-ens-posem-en-marxa.html
CLASS:PUBLIC
END:VEVENT
END:VCALENDAR
