BEGIN:VCALENDAR
VERSION:2.0
CALSCALE:GREGORIAN
PRODID:-//Diputació de Barcelona//DibaCMS//EN
BEGIN:VEVENT
UID:1348
DTSTAMP:20260424T014051
DTSTART:20250623T200000
DTEND:20250623T235900
SUMMARY:REVETLLA DE SANT JOAN A VALLS DE TORROELLA
LOCATION:
METHOD:PUBLISH
X-WR-CALNAME:st.mateu@diba.cat
X-WR-TIMEZONE:Europe/Madrid
DESCRIPTION:Venda de tiquets al Casal Casa Nostra:
Dilluns 16 de 11 h a 13 h i de 18 h a 20 h.
Dimarts 17 de 11 h a 13 h i de 18 h a 20 h.

Podeu reservar taules al mateix moment de comprar els tiquets. Si ho preferiu, ens podeu enviar un missatge per instagram o als telèfons 681228252 i 648419173.

‼️ Recordeu de portar plats, gots i coberts de casa ‼️

 

URI:https://www.santmateudebages.cat/actualitat/agenda/1348-revetlla-de-sant-joan-a-valls-de-torroella.html
CLASS:PUBLIC
END:VEVENT
END:VCALENDAR
