BEGIN:VCALENDAR
VERSION:2.0
CALSCALE:GREGORIAN
PRODID:-//Diputació de Barcelona//DibaCMS//EN
BEGIN:VEVENT
UID:1350
DTSTAMP:20260424T031743
DTSTART:20250705T203000
DTEND:20250705T230000
SUMMARY:Concert pel verd després del negre a Sant Mateu de Bages
LOCATION:Al peu del campanar de l'església de Sant Mateu de Bages 
METHOD:PUBLISH
X-WR-CALNAME:st.mateu@diba.cat
X-WR-TIMEZONE:Europe/Madrid
DESCRIPTION:Les dones de la nova cançó, Ca la NaÏta, un duet format per Berta Sala i Naiara Burke.

 

 

URI:https://www.santmateudebages.cat/actualitat/agenda/1350-concert-pel-verd-despres-del-negre-a-sant-mateu-de-bages.html
CLASS:PUBLIC
END:VEVENT
END:VCALENDAR
