BEGIN:VCALENDAR
VERSION:2.0
CALSCALE:GREGORIAN
PRODID:-//Diputació de Barcelona//DibaCMS//EN
BEGIN:VEVENT
UID:1365
DTSTAMP:20260423T235437
DTSTART:20250926T000000
DTEND:20250928T235900
SUMMARY:Festa Major de Castelltallat
LOCATION:
METHOD:PUBLISH
X-WR-CALNAME:st.mateu@diba.cat
X-WR-TIMEZONE:Europe/Madrid
DESCRIPTION:
URI:https://www.santmateudebages.cat/actualitat/agenda/1365-festa-major-de-castelltallat.html
CLASS:PUBLIC
END:VEVENT
END:VCALENDAR
