BEGIN:VCALENDAR
VERSION:2.0
CALSCALE:GREGORIAN
PRODID:-//Diputació de Barcelona//DibaCMS//EN
BEGIN:VEVENT
UID:1366
DTSTAMP:20260424T012000
DTSTART:20250913T183000
DTEND:20250914T150000
SUMMARY:Festa Major de Coaner
LOCATION:
METHOD:PUBLISH
X-WR-CALNAME:st.mateu@diba.cat
X-WR-TIMEZONE:Europe/Madrid
DESCRIPTION:
URI:https://www.santmateudebages.cat/actualitat/agenda/1366-festa-major-de-coaner.html
CLASS:PUBLIC
END:VEVENT
END:VCALENDAR
