BEGIN:VCALENDAR
VERSION:2.0
CALSCALE:GREGORIAN
PRODID:-//Diputació de Barcelona//DibaCMS//EN
BEGIN:VEVENT
UID:1368
DTSTAMP:20260424T011857
DTSTART:20251012T080000
DTEND:20251012T235900
SUMMARY:XIII Cursa de Muntanya a Castelltallat - Memorial Laura Ferrer
LOCATION:
METHOD:PUBLISH
X-WR-CALNAME:st.mateu@diba.cat
X-WR-TIMEZONE:Europe/Madrid
DESCRIPTION:Per més informació/inscripcions

URI:https://www.santmateudebages.cat/actualitat/agenda/xiii-cursa-de-muntanya-a-castelltallat-memorial-laura-ferrer.html
CLASS:PUBLIC
END:VEVENT
END:VCALENDAR
