BEGIN:VCALENDAR
VERSION:2.0
CALSCALE:GREGORIAN
PRODID:-//Diputació de Barcelona//DibaCMS//EN
BEGIN:VEVENT
UID:1370
DTSTAMP:20260424T012126
DTSTART:20251003T180000
DTEND:20251005T235900
SUMMARY:Festa les Fabricantes
LOCATION:
METHOD:PUBLISH
X-WR-CALNAME:st.mateu@diba.cat
X-WR-TIMEZONE:Europe/Madrid
DESCRIPTION:
URI:https://www.santmateudebages.cat/actualitat/agenda/1370-festa-les-fabricantes.html
CLASS:PUBLIC
END:VEVENT
END:VCALENDAR
