BEGIN:VCALENDAR
VERSION:2.0
CALSCALE:GREGORIAN
PRODID:-//Diputació de Barcelona//DibaCMS//EN
BEGIN:VEVENT
UID:1376
DTSTAMP:20260423T221758
DTSTART:20251029T170000
DTEND:20251029T190000
SUMMARY:Taller per a famílies Ni prínceps blaus Ni princeses promeses - CANCEL.LAT
LOCATION:
METHOD:PUBLISH
X-WR-CALNAME:st.mateu@diba.cat
X-WR-TIMEZONE:Europe/Madrid
DESCRIPTION:Cancel·lació del TALLER

Lamentem notificar que el taller queda anul.lat per manca d'inscripcions.

Gràcies per la vostra comprensió.

 

URI:https://www.santmateudebages.cat/actualitat/agenda/taller-per-a-families-ni-princeps-blaus-ni-princeses-promeses-cancellat.html
CLASS:PUBLIC
END:VEVENT
END:VCALENDAR
