BEGIN:VCALENDAR
VERSION:2.0
CALSCALE:GREGORIAN
PRODID:-//Diputació de Barcelona//DibaCMS//EN
BEGIN:VEVENT
UID:1386
DTSTAMP:20260423T234644
DTSTART:20251217T093000
DTEND:20251217T123000
SUMMARY:Curs d'higiene alimentària i manipuladors d'aliments
LOCATION:Pl. Sant Josep, s/n.  - Valls de Torroella 08269 
METHOD:PUBLISH
X-WR-CALNAME:st.mateu@diba.cat
X-WR-TIMEZONE:Europe/Madrid
DESCRIPTION:Curs dirigit a professionals manipuladors/es d'aliments d'establiments comercials i de restauració.

Cal fer inscripció prèvia fins el dia 15 de desembre, a les oficines de l'ajuntament o per telèfon al 938360010

PLACES LIMITADES

URI:https://www.santmateudebages.cat/actualitat/agenda/curs-dhigiene-alimentaria-i-manipuladors-daliments.html
CLASS:PUBLIC
END:VEVENT
END:VCALENDAR
