BEGIN:VCALENDAR
VERSION:2.0
CALSCALE:GREGORIAN
PRODID:-//Diputació de Barcelona//DibaCMS//EN
BEGIN:VEVENT
UID:1389
DTSTAMP:20260423T210240
DTSTART:20251221T170000
DTEND:20251221T200000
SUMMARY:Cagatió a Salo
LOCATION:
METHOD:PUBLISH
X-WR-CALNAME:st.mateu@diba.cat
X-WR-TIMEZONE:Europe/Madrid
DESCRIPTION:
URI:https://www.santmateudebages.cat/actualitat/agenda/1389-cagatio-a-salo.html
CLASS:PUBLIC
END:VEVENT
END:VCALENDAR
