BEGIN:VCALENDAR
VERSION:2.0
CALSCALE:GREGORIAN
PRODID:-//Diputació de Barcelona//DibaCMS//EN
BEGIN:VEVENT
UID:1390
DTSTAMP:20260423T223406
DTSTART:20251212T000000
DTEND:20251214T000000
SUMMARY:Actes Marató TV3 a Valls de Torroella
LOCATION:
METHOD:PUBLISH
X-WR-CALNAME:st.mateu@diba.cat
X-WR-TIMEZONE:Europe/Madrid
DESCRIPTION:
URI:https://www.santmateudebages.cat/actualitat/agenda/1390-actes-marato-tv3-a-valls-de-torroella.html
CLASS:PUBLIC
END:VEVENT
END:VCALENDAR
