BEGIN:VCALENDAR
VERSION:2.0
CALSCALE:GREGORIAN
PRODID:-//Diputació de Barcelona//DibaCMS//EN
BEGIN:VEVENT
UID:699
DTSTAMP:20260423T223531
DTSTART:20190127T160000
DTEND:20190127T190000
SUMMARY:Futbol: CF Valls de Torroella-CF Montmajor A
LOCATION:
METHOD:PUBLISH
X-WR-CALNAME:st.mateu@diba.cat
X-WR-TIMEZONE:Europe/Madrid
DESCRIPTION:
URI:https://www.santmateudebages.cat/actualitat/agenda/futbol-cf-valls-de-torroella-cf-montmajor-a.html
CLASS:PUBLIC
END:VEVENT
END:VCALENDAR
