BEGIN:VCALENDAR
VERSION:2.0
CALSCALE:GREGORIAN
PRODID:-//Diputació de Barcelona//DibaCMS//EN
BEGIN:VEVENT
UID:712
DTSTAMP:20260424T061331
DTSTART:20190427T110000
DTEND:20190427T230000
SUMMARY:XI TROBADA ARTISTES I ARTESANS VALLS DE TORROELLA
LOCATION:
METHOD:PUBLISH
X-WR-CALNAME:st.mateu@diba.cat
X-WR-TIMEZONE:Europe/Madrid
DESCRIPTION:
URI:https://www.santmateudebages.cat/actualitat/agenda/xi-trobada-artistes-i-artesans-valls-de-torroella.html
CLASS:PUBLIC
END:VEVENT
END:VCALENDAR
