BEGIN:VCALENDAR
VERSION:2.0
CALSCALE:GREGORIAN
PRODID:-//Diputació de Barcelona//DibaCMS//EN
BEGIN:VEVENT
UID:718
DTSTAMP:20260424T013640
DTSTART:20190510T113000
DTEND:20190510T130000
SUMMARY:HORA DEL CONTE: Contes posats de cap per avall
LOCATION:Valls de Torroella Sant Mateu de Bages
METHOD:PUBLISH
X-WR-CALNAME:st.mateu@diba.cat
X-WR-TIMEZONE:Europe/Madrid
DESCRIPTION:A càrrec de Clara Gavaldà i organitzat per Bibliobús Cavall Bernat- Diputació de Barcelona

URI:https://www.santmateudebages.cat/actualitat/agenda/hora-del-conte-contes-posats-de-cap-per-avall.html
CLASS:PUBLIC
END:VEVENT
END:VCALENDAR
