BEGIN:VCALENDAR
VERSION:2.0
CALSCALE:GREGORIAN
PRODID:-//Diputació de Barcelona//DibaCMS//EN
BEGIN:VEVENT
UID:726
DTSTAMP:20260423T223014
DTSTART:20190614T143000
DTEND:20190614T180000
SUMMARY:Xerrada EL RISC DEL BULLYING
LOCATION:Ctra. de Cardona, 15, baixos. 08269 Valls de Torroella
METHOD:PUBLISH
X-WR-CALNAME:st.mateu@diba.cat
X-WR-TIMEZONE:Europe/Madrid
DESCRIPTION:Inscripció prèvia a l’Ajuntament abans del dia 13 de juny.

URI:https://www.santmateudebages.cat/actualitat/agenda/xerrada-el-risc-del-bullying.html
CLASS:PUBLIC
END:VEVENT
END:VCALENDAR
