BEGIN:VCALENDAR
VERSION:2.0
CALSCALE:GREGORIAN
PRODID:-//Diputació de Barcelona//DibaCMS//EN
BEGIN:VEVENT
UID:754
DTSTAMP:20260424T031444
DTSTART:20191006T090000
DTEND:20191006T230000
SUMMARY:24ª RUTA CASTELLTALLAT A PEU - ARROSSADA - TEATRE
LOCATION:
METHOD:PUBLISH
X-WR-CALNAME:st.mateu@diba.cat
X-WR-TIMEZONE:Europe/Madrid
DESCRIPTION:
URI:https://www.santmateudebages.cat/actualitat/agenda/24a-ruta-castelltallat-a-peu-arrossada-teatre.html
CLASS:PUBLIC
END:VEVENT
END:VCALENDAR
