BEGIN:VCALENDAR
VERSION:2.0
CALSCALE:GREGORIAN
PRODID:-//Diputació de Barcelona//DibaCMS//EN
BEGIN:VEVENT
UID:759
DTSTAMP:20260424T045030
DTSTART:20191016T103000
DTEND:20191016T113000
SUMMARY:Visita OFICINA MÒBIL D'INFORMACIÓ AL CONSUMIDOR
LOCATION:Plaça Sant Josep-Valls de Torroella 
METHOD:PUBLISH
X-WR-CALNAME:st.mateu@diba.cat
X-WR-TIMEZONE:Europe/Madrid
DESCRIPTION:
URI:https://www.santmateudebages.cat/actualitat/agenda/759-visita-oficina-mobil-dinformacio-al-consumidor.html
CLASS:PUBLIC
END:VEVENT
END:VCALENDAR
