BEGIN:VCALENDAR
VERSION:2.0
CALSCALE:GREGORIAN
PRODID:-//Diputació de Barcelona//DibaCMS//EN
BEGIN:VEVENT
UID:760
DTSTAMP:20260423T124033
DTSTART:20191012T160000
DTEND:20191012T180000
SUMMARY:Futbol: CF. VALLS DE TORROELLA - CE BERGA "B"
LOCATION:Carrer Torres, 08269 Valls de Torroella
METHOD:PUBLISH
X-WR-CALNAME:st.mateu@diba.cat
X-WR-TIMEZONE:Europe/Madrid
DESCRIPTION:
URI:https://www.santmateudebages.cat/actualitat/agenda/futbol-cf-valls-de-torroella-ce-berga-b.html
CLASS:PUBLIC
END:VEVENT
END:VCALENDAR
