BEGIN:VCALENDAR
VERSION:2.0
CALSCALE:GREGORIAN
PRODID:-//Diputació de Barcelona//DibaCMS//EN
BEGIN:VEVENT
UID:762
DTSTAMP:20260424T042217
DTSTART:20191020T140000
DTEND:20191020T230000
SUMMARY:FESTA DE LA TARDOR A SALO 
LOCATION:
METHOD:PUBLISH
X-WR-CALNAME:st.mateu@diba.cat
X-WR-TIMEZONE:Europe/Madrid
DESCRIPTION:
URI:https://www.santmateudebages.cat/actualitat/agenda/festa-de-la-tardor-a-salo-.html
CLASS:PUBLIC
END:VEVENT
END:VCALENDAR
