BEGIN:VCALENDAR
VERSION:2.0
CALSCALE:GREGORIAN
PRODID:-//Diputació de Barcelona//DibaCMS//EN
BEGIN:VEVENT
UID:764
DTSTAMP:20260423T225751
DTSTART:20191110T080000
DTEND:20191110T150000
SUMMARY:X PEDALADA POPULAR RACONS  DEL PASSAT
LOCATION:
METHOD:PUBLISH
X-WR-CALNAME:st.mateu@diba.cat
X-WR-TIMEZONE:Europe/Madrid
DESCRIPTION:
URI:https://www.santmateudebages.cat/actualitat/agenda/x-pedalada-popular-racons-del-passat.html
CLASS:PUBLIC
END:VEVENT
END:VCALENDAR
