BEGIN:VCALENDAR
VERSION:2.0
CALSCALE:GREGORIAN
PRODID:-//Diputació de Barcelona//DibaCMS//EN
BEGIN:VEVENT
UID:780
DTSTAMP:20260423T225213
DTSTART:20191111T000000
DTEND:20191123T000000
SUMMARY:EXPOSICIÓ "LES ANTIGUES ESCOLES DE SANT MATEU DE BAGES"
LOCATION:LOCAL RECTORIA-VALLS DE TORROELLA
HORARI: Dilluns i dijous de 15:30h a 18:30h
                Dissabte de 10:00h a 13:00h 
METHOD:PUBLISH
X-WR-CALNAME:st.mateu@diba.cat
X-WR-TIMEZONE:Europe/Madrid
DESCRIPTION:
URI:https://www.santmateudebages.cat/actualitat/agenda/exposicio-les-antigues-escoles-de-sant-mateu-de-bages.html
CLASS:PUBLIC
END:VEVENT
END:VCALENDAR
